BEGIN:VCALENDAR
VERSION:2.0
PRODID:-//Indica Events - ECPv6.15.12.2//NONSGML v1.0//EN
CALSCALE:GREGORIAN
METHOD:PUBLISH
X-WR-CALNAME:Indica Events
X-ORIGINAL-URL:https://indica.events
X-WR-CALDESC:Events for Indica Events
REFRESH-INTERVAL;VALUE=DURATION:PT1H
X-Robots-Tag:noindex
X-PUBLISHED-TTL:PT1H
BEGIN:VTIMEZONE
TZID:Asia/Kolkata
BEGIN:STANDARD
TZOFFSETFROM:+0530
TZOFFSETTO:+0530
TZNAME:IST
DTSTART:20220101T000000
END:STANDARD
END:VTIMEZONE
BEGIN:VEVENT
DTSTART;TZID=Asia/Kolkata:20230723T183000
DTEND;TZID=Asia/Kolkata:20230723T193000
DTSTAMP:20260421T212848
CREATED:20230717T121334Z
LAST-MODIFIED:20230717T121423Z
UID:4848-1690137000-1690140600@indica.events
SUMMARY:Biennales As A Cultural Mosaic
DESCRIPTION:Biennales are known for increasing accessibility and the democratisation of the arts and culture sector. They serve as a platform to bring together art\, artists and audiences to seek mediums of sharing and understanding cultures\, whilst observing and understanding the future of art that is being carved out with precision. Specifically\, Museum Biennales brings together collections from museums to create a place for engagement and receptivity. Duly crafted experiences and thoughtfully employed curatorial strategies take museums beyond what is seen as a mere treasury. With the objective of filling the gap between art\, architecture\, culture and memory\, they are an initiative to contextualise and review our past\, present\, and future with immersive experiences\, symposiums\, exhibitions amongst others. To cover the lacuna that exists in how we see our heritage on a personal and community level\, biennales facilitate conversations\, negotiations\, and introspection\, to create consciousness and seek what goes beyond reality. \nAs the upcoming Bihar Museum Biennale\, one-of-its kind in India has started creating ripples\, with this talk we explore how biennales serve as mosaic of cultures\, celebrating their diversity whilst uniting them
URL:https://indica.events/event/biennales-as-a-cultural-mosaic/
ATTACH;FMTTYPE=image/jpeg:https://indica.events/wp-content/uploads/2023/07/WhatsApp-Image-2023-07-15-at-14.47.23.jpeg
END:VEVENT
END:VCALENDAR