BEGIN:VCALENDAR
VERSION:2.0
PRODID:-//Indica Events - ECPv6.15.12.2//NONSGML v1.0//EN
CALSCALE:GREGORIAN
METHOD:PUBLISH
X-WR-CALNAME:Indica Events
X-ORIGINAL-URL:https://indica.events
X-WR-CALDESC:Events for Indica Events
REFRESH-INTERVAL;VALUE=DURATION:PT1H
X-Robots-Tag:noindex
X-PUBLISHED-TTL:PT1H
BEGIN:VTIMEZONE
TZID:America/Chicago
BEGIN:DAYLIGHT
TZOFFSETFROM:-0600
TZOFFSETTO:-0500
TZNAME:CDT
DTSTART:20220313T080000
END:DAYLIGHT
BEGIN:STANDARD
TZOFFSETFROM:-0500
TZOFFSETTO:-0600
TZNAME:CST
DTSTART:20221106T070000
END:STANDARD
BEGIN:DAYLIGHT
TZOFFSETFROM:-0600
TZOFFSETTO:-0500
TZNAME:CDT
DTSTART:20230312T080000
END:DAYLIGHT
BEGIN:STANDARD
TZOFFSETFROM:-0500
TZOFFSETTO:-0600
TZNAME:CST
DTSTART:20231105T070000
END:STANDARD
BEGIN:DAYLIGHT
TZOFFSETFROM:-0600
TZOFFSETTO:-0500
TZNAME:CDT
DTSTART:20240310T080000
END:DAYLIGHT
BEGIN:STANDARD
TZOFFSETFROM:-0500
TZOFFSETTO:-0600
TZNAME:CST
DTSTART:20241103T070000
END:STANDARD
END:VTIMEZONE
BEGIN:VEVENT
DTSTART;TZID=America/Chicago:20230923T140000
DTEND;TZID=America/Chicago:20230923T170000
DTSTAMP:20260421T174201
CREATED:20230708T084627Z
LAST-MODIFIED:20230710T152254Z
UID:4796-1695477600-1695488400@indica.events
SUMMARY:Book Conversations : Aryans & British India
DESCRIPTION:INDICA is delighted to relaunch Book Discussion Sessions from Sep 2023 onwards. The sessions were initiated in 2019 by INDICA USA and had to be put on hold owing to the pandemic. The sessions will leverage books and writings by global intellectuals\, and unpack scholarship about Indic Heritage and related topics. The program outline for a typical session is given below \n\nSchedule: Sessions will be conducted on a fixed/recurring schedule\, weekends only. \nAgenda: The agenda for each session will be to review a book or multiple books relating to a theme/topic\, distil its message\, and engage in productive discussions. The topics to be covered for each session will be announced in advance. Flyers will be posted online. \nLocation: The sessions will be hosted by Ram Lakshminarayanan in his home. Those living in the vicinity of Chicago may find it convenient to attend.  This will be an in-person event only. There will not be any recording or live broadcast. \n\n\nParticipation: The sessions are open to those interested in learning about Indic heritage and contribute to its promotion. \nRegistration: Registration is mandatory. Registration link is given\n\n\nModeration: Each session will be moderated to maintain focus.\n\n\nSnacks: Lite snacks will be served. \nFee: There’s no fee for this event. Participation is free.  \n\nThe First session will discuss Aryans & British India by Thomas Trautmann  on Sat\, Sep 23\, \,2023 2:00-5:00p US Central Time \n  \n \nAbout the Book :  \n“Aryan\,” a word that today evokes images of racial hatred and atrocity\, was first used by Europeans to suggest bonds of kinship\, as Thomas Trautmann shows in his far-reaching history of British Orientalism and the ethnology of India. When the historical relationship uniting Sanskrit with the languages of Europe was discovered\, it seemed clear that Indians and Britons belonged to the same family. Thus the Indo-European or Aryan idea\, based on the principle of linguistic kinship\, dominated British ethnological inquiry. \nIn the nineteenth century\, however\, an emergent biological “race science” attacked the authority of the Orientalists. The spectacle of a dark-skinned people who were evidently civilized challenged Victorian ideas\, and race science responded to the enigma of India by redefining the Aryan concept in narrowly “white” racial terms. By the end of the nineteenth century\, race science and Orientalism reached a deep and lasting consensus in regard to India\, which Trautmann calls “the racial theory of Indian civilization\,” and which he undermines with his powerful analysis of colonial ethnology in India. His work of reassessing British Orientalism and the Aryan idea will be of great interest to historians\, anthropologists\, and cultural critics. \n****** \nDetails of the Second & Third session are given below: \n\n\n\n\n\n\n\n\n  \nContact Information \nAvatans Kumar\, Head\, Indic Academy US\, avatans@indicacademy.org  \nNishant Limbachia\, US National Convenor\, Indic Academy\, nlimbachia@indica.org.in \nRam Lakshminarayanan\, US National Convenor\, Indic Academy\, raml@indica.org.in  \n 
URL:https://indica.events/event/book-conversations-aryans-british-india/
CATEGORIES:Programs
ATTACH;FMTTYPE=image/jpeg:https://indica.events/wp-content/uploads/2023/07/WhatsApp-Image-2023-07-06-at-17.07.20.jpeg
END:VEVENT
END:VCALENDAR