BEGIN:VCALENDAR
VERSION:2.0
PRODID:-//Indica Events - ECPv6.15.12.2//NONSGML v1.0//EN
CALSCALE:GREGORIAN
METHOD:PUBLISH
X-WR-CALNAME:Indica Events
X-ORIGINAL-URL:https://indica.events
X-WR-CALDESC:Events for Indica Events
REFRESH-INTERVAL;VALUE=DURATION:PT1H
X-Robots-Tag:noindex
X-PUBLISHED-TTL:PT1H
BEGIN:VTIMEZONE
TZID:Asia/Kolkata
BEGIN:STANDARD
TZOFFSETFROM:+0530
TZOFFSETTO:+0530
TZNAME:IST
DTSTART:20220101T000000
END:STANDARD
END:VTIMEZONE
BEGIN:VEVENT
DTSTART;TZID=Asia/Kolkata:20230217T180000
DTEND;TZID=Asia/Kolkata:20230217T203000
DTSTAMP:20260422T194657
CREATED:20230208T084848Z
LAST-MODIFIED:20230211T123654Z
UID:3515-1676656800-1676665800@indica.events
SUMMARY:Book Launch and Conversation | Aryaa
DESCRIPTION:Indica is pleased to announce the release of another Anthology – “Aryaa – An Anthology of Vedic Women” . The Book will be launched in South Bangalore at The Indian Institute of World Culture\, BP Wadia Road in collaboration with Meru Foundation for Indic Arts. Shri. Prakash Belawadi – Thinker\, Actor\, Film Maker and Shri. Achyutha Ananthamurthy\, President\, Meru Foundation of Indic Arts will grace the launch function\, followed by a Conversation on the book with the Curator – Shivakumar GV. \nAryaa is curated by Shivakumar GV – Scholar in Residence at Indica and Consulting Editor for Indica Today. It contains 10 Stories covering 10 Characters written by 10 Authors.  It is a retelling of the stories of women from the Vedas\, Upanishads and Itihasa-Puranas. It is a creative reimagination within the boundaries of our tradition. It is a labour of love and conviction that our civilization is an inspiration for all times to come. It is a celebration of the glorious role played by fascinating women in shaping our civilization over millennia. \nWe hope these narrations inspire a relook at old narratives and create fresh cultural conversations. \nVenue : Indian Institute of World Culture\, BP Wadia Road\, Bangalore
URL:https://indica.events/event/book-launch-and-conversation-aryaa/
CATEGORIES:Programs
ATTACH;FMTTYPE=image/jpeg:https://indica.events/wp-content/uploads/2023/02/WhatsApp-Image-2023-02-08-at-12.21.45.jpeg
END:VEVENT
END:VCALENDAR