BEGIN:VCALENDAR
VERSION:2.0
PRODID:-//Indica Events - ECPv6.15.12.2//NONSGML v1.0//EN
CALSCALE:GREGORIAN
METHOD:PUBLISH
X-WR-CALNAME:Indica Events
X-ORIGINAL-URL:https://indica.events
X-WR-CALDESC:Events for Indica Events
REFRESH-INTERVAL;VALUE=DURATION:PT1H
X-Robots-Tag:noindex
X-PUBLISHED-TTL:PT1H
BEGIN:VTIMEZONE
TZID:Asia/Kolkata
BEGIN:STANDARD
TZOFFSETFROM:+0530
TZOFFSETTO:+0530
TZNAME:IST
DTSTART:20220101T000000
END:STANDARD
END:VTIMEZONE
BEGIN:VEVENT
DTSTART;TZID=Asia/Kolkata:20230224T180000
DTEND;TZID=Asia/Kolkata:20230224T190000
DTSTAMP:20260422T194743
CREATED:20230216T060119Z
LAST-MODIFIED:20230216T060119Z
UID:3530-1677261600-1677265200@indica.events
SUMMARY:Breadcrumb Trails of Yogic Knowledge
DESCRIPTION:In this presentation\, Teune will take you on a short journey\, exploring the hidden clues that can be found in your everyday postural yoga class. Specifically\, from a non-academic point of view and from a perspective outside of India. There are breadcrumbs of knowledge everywhere\, hidden in plain sight. Simply looking at the denomination of your favorite style of yoga\, the names of the poses and the mantras that accompany your sessions\, for example\, are great starting points. What are — to many of us practitioners — foreign names and words at first\, can reveal layers of knowledge once we try to find out more about them. When the yoga enthusiast continues to enquire into the meaning of terms heard in class\, a process of inward investigation is started which can expose a refreshing self-view rooted in the Indic Knowledge Systems\, universal truth that is liberating and enlightening\, revealing our greater reality.
URL:https://indica.events/event/breadcrumb-trails-of-yogic-knowledge/
CATEGORIES:Talks
ATTACH;FMTTYPE=image/jpeg:https://indica.events/wp-content/uploads/2023/02/WhatsApp-Image-2023-02-15-at-17.42.34.jpeg
END:VEVENT
END:VCALENDAR