BEGIN:VCALENDAR
VERSION:2.0
PRODID:-//Indica Events - ECPv6.15.12.2//NONSGML v1.0//EN
CALSCALE:GREGORIAN
METHOD:PUBLISH
X-WR-CALNAME:Indica Events
X-ORIGINAL-URL:https://indica.events
X-WR-CALDESC:Events for Indica Events
REFRESH-INTERVAL;VALUE=DURATION:PT1H
X-Robots-Tag:noindex
X-PUBLISHED-TTL:PT1H
BEGIN:VTIMEZONE
TZID:Asia/Kolkata
BEGIN:STANDARD
TZOFFSETFROM:+0530
TZOFFSETTO:+0530
TZNAME:IST
DTSTART:20250101T000000
END:STANDARD
END:VTIMEZONE
BEGIN:VEVENT
DTSTART;TZID=Asia/Kolkata:20260513T163000
DTEND;TZID=Asia/Kolkata:20260516T163000
DTSTAMP:20260422T175851
CREATED:20260422T002322Z
LAST-MODIFIED:20260422T002322Z
UID:7069-1778689800-1778949000@indica.events
SUMMARY:Kalaripayattu Basics: Strength\, Grace\, and Focus | 3 Day Residential Workshop
DESCRIPTION:Kalaripayattu is one of India’s oldest martial traditions\, born in the gurukulas and battlefields of Kerala and refined over centuries as a complete system for strength\, agility\, focus\, and inner discipline. Far beyond a display of kicks and leaps\, it trains the body to move with animal-like grace\, the mind to stay steady under pressure\, and the senses to become sharply aware of space\, rhythm\, and energy. \nThis 3-day Kalaripayattu Foundation workshop offers a structured initiation into this living art. Participants will learn fundamental warm-ups\, postures inspired by animal forms (vadivu)\, basic kicks\, steps\, and movement patterns that recalibrate natural alignment and coordination. Whether you are an athlete looking to enhance performance\, a yoga practitioner wanting deeper body awareness\, or a professional seeking a stronger\, more resilient body-mind\, this immersion will equip you with practical tools to build strength\, flexibility\, balance\, and mental discipline that you can carry into everyday life. \nKey Learnings Involve: \n\nVadivukkal: Postural allignment\, building the structural integrity of the body to improve strength and stability.\nKaalugal: Dynamic leg movements that improve coordination\, balance and flexibility.\nAdithada: Reaction and defence\nKalarivandanam: Resets the nervous system and creates mental discipline\nVadiveeshal: Vadi – cane weapon spinning\n\nThe Details of the Retreat are as follows: \n*Suitable age group 12 to 18 years and above* Open for all\, no prior experience or training required in Kalari or in other movement form. \nDate and timings: Starts on the 13th May (Wednesday) at 4:30 PM and concludes on 16th May (Saturday) 2026 at 4:30 PM. \nVenue: Indica Gurukulam @ Ritambhara\, No. 69\, BMTC Layout\, Adjacent to Kammasandra Village\, Lakshmipura-Hobli. \nThe Retreat Place\, located just on the outskirts of Bangalore city\, is a small beautiful space dedicated to Yoga and spiritual studies and practices in a simple and clean environment adjacent to a farm of its own. \nWorkshop Contribution: Rs 7\,800/- per person. The fees are inclusive of boarding\, lodging and teaching plus resource materials. \nAccommodation: Shared accommodation will be provided \nFood: Simple sāttvik food with fresh-grown vegetables from the farm. \nReaching the Venue: The venue is about 22 km from Majestic Bus Stand and is accessible through Magadi Road and Tumkur Road\, preferably through your own vehicles. The retreat centre is very close to “Sri Kamadhenu Kshetra”\, a highly popular Raghavendra Swamy temple\, which has become much-known in recent years. It would take approximately an hour to reach the retreat venue from the city centre. Participants have to make their own arrangements to travel to the venue. If any assistance is required\, the Indica Yoga Team will help. \nMetro Rail Access: Take Green Line\, get down at Madavara Metro Station. From there\, it takes 25 mins (9.2 km) via Lakshmipura Road by Auto Rickshaw / Taxi. \nContact: namaste@indicayoga.com / +91 9880916243 / +91 8431570343
URL:https://indica.events/event/kalaripayattu-basics-strength-grace-and-focus-3-day-residential-workshop/
LOCATION:Indica Gurukulam @Ritambhara Retreat\, Indica Gurukulam @Ritambhara Retreat\, No. 69\, BMTC Layout\, Adjacent to Kammasandra Village\, Lakshmipura\, https://www.ritambhararetreat.com\, Hobli\, Karnataka\, India
CATEGORIES:Residential Workshop,Workshop
ATTACH;FMTTYPE=image/jpeg:https://indica.events/wp-content/uploads/2026/04/Kalari-workshop-May-2026.jpeg
GEO:13.026430240759;77.437006824467
X-APPLE-STRUCTURED-LOCATION;VALUE=URI;X-ADDRESS=Indica Gurukulam @Ritambhara Retreat Indica Gurukulam @Ritambhara Retreat No. 69 BMTC Layout Adjacent to Kammasandra Village Lakshmipura https://www.ritambhararetreat.com Hobli Karnataka India;X-APPLE-RADIUS=500;X-TITLE=Indica Gurukulam @Ritambhara Retreat\, No. 69\, BMTC Layout\, Adjacent to Kammasandra Village\, Lakshmipura\, https://www.ritambhararetreat.com:geo:77.437006824467,13.026430240759
END:VEVENT
END:VCALENDAR