BEGIN:VCALENDAR
VERSION:2.0
PRODID:-//Indica Events - ECPv6.15.12.2//NONSGML v1.0//EN
CALSCALE:GREGORIAN
METHOD:PUBLISH
X-WR-CALNAME:Indica Events
X-ORIGINAL-URL:https://indica.events
X-WR-CALDESC:Events for Indica Events
REFRESH-INTERVAL;VALUE=DURATION:PT1H
X-Robots-Tag:noindex
X-PUBLISHED-TTL:PT1H
BEGIN:VTIMEZONE
TZID:Asia/Kolkata
BEGIN:STANDARD
TZOFFSETFROM:+0530
TZOFFSETTO:+0530
TZNAME:IST
DTSTART:20220101T000000
END:STANDARD
END:VTIMEZONE
BEGIN:VEVENT
DTSTART;TZID=Asia/Kolkata:20230513T180000
DTEND;TZID=Asia/Kolkata:20230513T190000
DTSTAMP:20260422T070546
CREATED:20230501T053836Z
LAST-MODIFIED:20250926T100224Z
UID:4312-1684000800-1684004400@indica.events
SUMMARY:Overview of INDICA Course Introduction to Śrī Madhvācārya : Life and Works
DESCRIPTION:Śrī Madhvācārya\, the founder of Dvaita School of Vedānta\, is one of the three popular Ācāryas who established their own Schools of Vedānta; Sri Śaṅkarācārya\, the founder of Advaita School\, and Sri Rāmāmujācārya the founder of Viśiṣṭādvaita\, being the other two. Born in coastal Karnataka\, in the 44th century Kali era (13th century CE)\, he became an ascetic at a very early age with a life mission to uncover the purport of Vedantic texts with due emphasis to our experiential knowledge and rigorous logic. His teaching of Vedantic realism is a highly useful framework to understand the meaning of life and its purpose in a convincing way. His works\, collectively called Sarvamūla Granthas\, are unique in many ways; notably for their wide range and for reconciling the entire corpus of Vedic texts. His life-story provides glimpses of his divine personality that add an additional layer of legitimacy to his teachings. \nOur upcoming INDICA Course Introduction to Śrī Madhvācārya : Life and Works provides an introductory overview of the life and works of Śrī Madhvācārya. Participants will be able to significant events in his life\, learn contexts for his works\, and get an outline of the fundamental principles of his teachings. \nIn order to enable learners to make an informed enrollment decision\, we are organising an open session where our faculty will provide an overview of this INDICA Course. The event is open to all. Prior registration is necessary. \nWe look forward to your participation.
URL:https://indica.events/event/overview-of-indica-course-introduction-to-sri-madhvacarya-life-and-works/
CATEGORIES:Course Previews
ATTACH;FMTTYPE=image/jpeg:https://indica.events/wp-content/uploads/2023/05/701d24bd-f78b-4ed6-bee2-8b7d0fe48cfe.jpeg
END:VEVENT
END:VCALENDAR