BEGIN:VCALENDAR
VERSION:2.0
PRODID:-//Indica Events - ECPv6.15.12.2//NONSGML v1.0//EN
CALSCALE:GREGORIAN
METHOD:PUBLISH
X-WR-CALNAME:Indica Events
X-ORIGINAL-URL:https://indica.events
X-WR-CALDESC:Events for Indica Events
REFRESH-INTERVAL;VALUE=DURATION:PT1H
X-Robots-Tag:noindex
X-PUBLISHED-TTL:PT1H
BEGIN:VTIMEZONE
TZID:Asia/Kolkata
BEGIN:STANDARD
TZOFFSETFROM:+0530
TZOFFSETTO:+0530
TZNAME:IST
DTSTART:20230101T000000
END:STANDARD
END:VTIMEZONE
BEGIN:VEVENT
DTSTART;TZID=Asia/Kolkata:20240621T150000
DTEND;TZID=Asia/Kolkata:20240623T150000
DTSTAMP:20260421T143354
CREATED:20240517T144324Z
LAST-MODIFIED:20240520T075329Z
UID:5501-1718982000-1719154800@indica.events
SUMMARY:Rāga Yoga Retreat
DESCRIPTION:Rāga Yoga Retreat combines the musical experience of exploring different rāgās of Indian Classical Music and using them as doorways for experiencing the Navarasās to delve into an immersive self-exploration of the mind and its patterns. The retreat brings together ideas from Hindustani Music\, Bharata’s Nātya Śāstra\, and Patanjali’s Yoga Sūtrās in an experiential manner. Participants will get an opportunity to explore these ideas through a combination of music\, reflective arts\, interactive theatre games\, and contemplative dialogues. \nRāga Yoga series of workshops and retreats are designed by Hariprasad Varma (Founder – Yogaśāla & Zensei®) in collaboration with Shruti Bode (Hindustani Musician) and Aarti Sivakumar (Carnatic Musician). \nNote: The workshop and retreat is suitable for any person across age groups. No background in music is required to benefit from the experience. \nObjectives: \nRāga Yoga Retreat is intended to offer an inter-disciplinary experience to participants to discover more about themselves\, their relationships\, and action choices through music\, art\, and yoga. \nThe retreat offers a perfect ambience for a deeply reflective space to look at one self through the support of a collective of fellow co-travellers and seekers. \nRetreat Contribution: Rs.10\,000/- INR \n*Avail Early Bird discount offer: Rs.8\,000/- for registration before 10th June\, 2024. (Limited seats only) \nOpen to all from the age group of 18 years and above \nAccommodation: Only shared accommodation will be provided \nFood: Simple sattvik food with fresh grown vegetables from the farm \nVenue: Indica Gurukulam @Ritambhara Retreat\, No. 69\, BMTC Layout\, Adjacent to Kammasandra Village\, Lakshmipura Hobli. \nThe Retreat\, located just on the outskirts of Bangalore city\, is a small beautiful space dedicated to Yoga & spiritual studies and practices in a simple and clean environment adjacent to a farm of its own. \nReaching the Retreat Venue: The venue is about 22 kms from Majestic Bus Stand and is accessible through Magadi Road and Tumkur Road preferably through own vehicles. The retreat center is very close to ‘Kamadhenu Kshetra’ – a highly popular Raghavendra Swamy temple in the last few years. It would take about an hour to reach the retreat venue from the heart of the city. Participants have to make their own arrangements. If any assistance is required Indica Yoga Team will help. \nFor more details contact us at +91 6363663313 or email: namaste@indicayoga.com
URL:https://indica.events/event/raga-yoga-retreat/
LOCATION:Indica Gurukulam @Ritambhara Retreat\, Indica Gurukulam @Ritambhara Retreat\, No. 69\, BMTC Layout\, Adjacent to Kammasandra Village\, Lakshmipura\, https://www.ritambhararetreat.com\, Hobli\, Karnataka\, India
CATEGORIES:Retreats
ATTACH;FMTTYPE=image/jpeg:https://indica.events/wp-content/uploads/2024/05/WhatsApp-Image-2024-05-17-at-17.41.12.jpeg
GEO:13.026430240759;77.437006824467
X-APPLE-STRUCTURED-LOCATION;VALUE=URI;X-ADDRESS=Indica Gurukulam @Ritambhara Retreat Indica Gurukulam @Ritambhara Retreat No. 69 BMTC Layout Adjacent to Kammasandra Village Lakshmipura https://www.ritambhararetreat.com Hobli Karnataka India;X-APPLE-RADIUS=500;X-TITLE=Indica Gurukulam @Ritambhara Retreat\, No. 69\, BMTC Layout\, Adjacent to Kammasandra Village\, Lakshmipura\, https://www.ritambhararetreat.com:geo:77.437006824467,13.026430240759
END:VEVENT
END:VCALENDAR