BEGIN:VCALENDAR
VERSION:2.0
PRODID:-//Indica Events - ECPv6.15.12.2//NONSGML v1.0//EN
CALSCALE:GREGORIAN
METHOD:PUBLISH
X-WR-CALNAME:Indica Events
X-ORIGINAL-URL:https://indica.events
X-WR-CALDESC:Events for Indica Events
REFRESH-INTERVAL;VALUE=DURATION:PT1H
X-Robots-Tag:noindex
X-PUBLISHED-TTL:PT1H
BEGIN:VTIMEZONE
TZID:Asia/Kolkata
BEGIN:STANDARD
TZOFFSETFROM:+0530
TZOFFSETTO:+0530
TZNAME:IST
DTSTART:20220101T000000
END:STANDARD
END:VTIMEZONE
BEGIN:VEVENT
DTSTART;TZID=Asia/Kolkata:20230418T181500
DTEND;TZID=Asia/Kolkata:20230418T201500
DTSTAMP:20260422T135435
CREATED:20230317T135140Z
LAST-MODIFIED:20230413T093415Z
UID:3667-1681841700-1681848900@indica.events
SUMMARY:Ṛtu Viḍyā: Connecting to Your Cycle: A Workshop for Female Yoga Practitioners
DESCRIPTION:Just like the lunar cycle and the seasons\, we too as women have our own internal cycle and seasons. Connecting to our menstrual cycle is the doorway to greater health\, wellbeing and spiritual development. As yoga practitioners\, our yoga practices can be guided by our cycles and adapted accordingly. Join Nea Ferrier for a restorative yoga class themed on this topic. Open to female yoga practitioners of all levels and lineages.
URL:https://indica.events/event/rtu-vidya-connecting-to-your-cycle-a-workshop-for-female-yoga-practitioners/
CATEGORIES:Talks
ATTACH;FMTTYPE=image/jpeg:https://indica.events/wp-content/uploads/2023/03/WhatsApp-Image-2023-03-17-at-10.58.501.jpg
END:VEVENT
END:VCALENDAR