BEGIN:VCALENDAR
VERSION:2.0
PRODID:-//Indica Events - ECPv6.15.12.2//NONSGML v1.0//EN
CALSCALE:GREGORIAN
METHOD:PUBLISH
X-WR-CALNAME:Indica Events
X-ORIGINAL-URL:https://indica.events
X-WR-CALDESC:Events for Indica Events
REFRESH-INTERVAL;VALUE=DURATION:PT1H
X-Robots-Tag:noindex
X-PUBLISHED-TTL:PT1H
BEGIN:VTIMEZONE
TZID:Asia/Kolkata
BEGIN:STANDARD
TZOFFSETFROM:+0530
TZOFFSETTO:+0530
TZNAME:IST
DTSTART:20230101T000000
END:STANDARD
END:VTIMEZONE
BEGIN:VEVENT
DTSTART;TZID=Asia/Kolkata:20240323T093000
DTEND;TZID=Asia/Kolkata:20240323T130000
DTSTAMP:20260425T192958
CREATED:20240315T050256Z
LAST-MODIFIED:20240320T100307Z
UID:5416-1711186200-1711198800@indica.events
SUMMARY:Symposium On Saṃskṛtam And Tamiḻ
DESCRIPTION:Oldest amongst languages declared ‘Classical’ by the Government of India\, Saṃskṛtam (or Sanskrit) and Tamiḻ (or Tamil) have been inestimably valuable storehouses of immense quantities and varieties of knowledge indigenous to Bhāratavarṣa\, a region of the world whose 63-verse description in critical edition of the Indian itihāsa\, the Mahabhārata\, encompasses all of today’s mainland India and more.  \nPitted into separate language families first by colonial writers in the 19th century\, these languages have since then been often used as divisive levers by a variety of forces with\, some may argue\, an excessive focus on how they are different — which they no doubt are — but with far lesser efforts to see how they are similar or how they can be seen together and as parts of a larger whole\, rather than only separately or worse\, antagonistically.  \nINDICA Bhāṣā’s Online Symposium on Saṃskṛtam\, and Tamiḻ\, planned on the 23rd of March 2024 (Saturday) between IST 0930-1300 hrs (schedule below)\, looks to add to previous efforts that have striven to address the aforementioned imbalance\, by bringing you views of some of the finest minds at the intersection of Saṃskṛtam and Tamiḻ across domains such as aesthetics\, ways of life and more.  \nSCHEDULE \n\n\n\n\nTime\nName Of The Speaker\nTopic\n\n\n9:30\nMegh Kalyanasundaram\nDirector Special Projects\, INDICA\nInvocation and Concept\n\n\n9:45\nŚatāvadhānī Dr R Ganesh\nPolyglot Scholar\nOn The Common Aesthetics of Saṃskṛtam and Tamiḻ\n\n\n10:30\nDr T Ganesan\nHead\, Centre for Shaiva Studies\, Pondicherry\n\nSaṃskṛtam and Tamiḻ in the Bhāratīya Śaiva literature\n\n\n11:15\nDr MA Alwar\nProfessor\, Government Maharaja’s Sanskrit College\, Mysuru\, Karnataka State University\nSaṃskṛtam and Tamiḻ in the Bhāratīya Vaiṣṇava literature\n\n\n12:00\nSri Rangarathnam Gopu\nCo-founder Varahamihira Science Forum and Volunteer\, Tamil Heritage Trust\n\nBrāhmī and Grantham: Scripts for Saṃskṛtam and Tamiḻ\n\n\n12:45\nMegh Kalyanasundaram\nDirector Special Projects\, INDICA\n\nBeyond Colonial Divisions: Looking at Saṃskṛtam & Tamiḻ together\n\n\n\n 
URL:https://indica.events/event/samskritamtamil/
CATEGORIES:Symposiums
ATTACH;FMTTYPE=image/jpeg:https://indica.events/wp-content/uploads/2024/03/WhatsApp-Image-2024-03-12-at-10.40.22.jpeg
END:VEVENT
END:VCALENDAR