BEGIN:VCALENDAR
VERSION:2.0
PRODID:-//Indica Events - ECPv6.15.12.2//NONSGML v1.0//EN
CALSCALE:GREGORIAN
METHOD:PUBLISH
X-WR-CALNAME:Indica Events
X-ORIGINAL-URL:https://indica.events
X-WR-CALDESC:Events for Indica Events
REFRESH-INTERVAL;VALUE=DURATION:PT1H
X-Robots-Tag:noindex
X-PUBLISHED-TTL:PT1H
BEGIN:VTIMEZONE
TZID:Asia/Kolkata
BEGIN:STANDARD
TZOFFSETFROM:+0530
TZOFFSETTO:+0530
TZNAME:IST
DTSTART:20220101T000000
END:STANDARD
END:VTIMEZONE
BEGIN:VEVENT
DTSTART;TZID=Asia/Kolkata:20230203T180000
DTEND;TZID=Asia/Kolkata:20230203T190000
DTSTAMP:20260422T213556
CREATED:20230202T063905Z
LAST-MODIFIED:20230202T063905Z
UID:3483-1675447200-1675450800@indica.events
SUMMARY:Stability and Mobility – On and off the Yoga Mat
DESCRIPTION:Stability and Mobility are two major principles when we practice yoga on the mat and off the mat. This one hour session will help us experience and explore the freedom of physical\, pranic and mental mobility when it is built on physical\, pranic  and mental stability. 
URL:https://indica.events/event/stability-and-mobility-on-and-off-the-yoga-mat/
CATEGORIES:Talks
ATTACH;FMTTYPE=image/jpeg:https://indica.events/wp-content/uploads/2023/02/WhatsApp-Image-2023-02-02-at-11.53.44.jpeg
END:VEVENT
END:VCALENDAR