BEGIN:VCALENDAR
VERSION:2.0
PRODID:-//Indica Events - ECPv6.15.12.2//NONSGML v1.0//EN
CALSCALE:GREGORIAN
METHOD:PUBLISH
X-WR-CALNAME:Indica Events
X-ORIGINAL-URL:https://indica.events
X-WR-CALDESC:Events for Indica Events
REFRESH-INTERVAL;VALUE=DURATION:PT1H
X-Robots-Tag:noindex
X-PUBLISHED-TTL:PT1H
BEGIN:VTIMEZONE
TZID:Asia/Kolkata
BEGIN:STANDARD
TZOFFSETFROM:+0530
TZOFFSETTO:+0530
TZNAME:IST
DTSTART:20220101T000000
END:STANDARD
END:VTIMEZONE
BEGIN:VEVENT
DTSTART;TZID=Asia/Kolkata:20230717T160000
DTEND;TZID=Asia/Kolkata:20230717T170000
DTSTAMP:20260421T182349
CREATED:20230710T103105Z
LAST-MODIFIED:20230710T103105Z
UID:4805-1689609600-1689613200@indica.events
SUMMARY:The Call Of Arunachala – The Fire Within
DESCRIPTION:The Call Of Arunachala – The Fire Within\n(A Personal Story Of Coming Home To The Heart)\nSilke shares her personal journey of how she came to live in Tiruvannamalai\, home of Ramana Maharshi’s ashram and one of India’s most powerful spiritual centres. She reveals how living in such an intense place of transformation has had and continues to have a profound effect on her own spiritual practice and awareness. Silke also invites us into her unique experience and perspective arising from being a European woman living in a traditional Indian culture. The session includes samples of some of Silke’s most treasured Veda mantras that capture the richness of living at the feet of the mountain of spiritual fire.
URL:https://indica.events/event/the-call-of-arunachala-the-fire-within/
CATEGORIES:Talks
ATTACH;FMTTYPE=image/jpeg:https://indica.events/wp-content/uploads/2023/07/WhatsApp-Image-2023-07-06-at-20.07.00.jpeg
END:VEVENT
END:VCALENDAR