BEGIN:VCALENDAR
VERSION:2.0
PRODID:-//Indica Events - ECPv6.15.12.2//NONSGML v1.0//EN
CALSCALE:GREGORIAN
METHOD:PUBLISH
X-WR-CALNAME:Indica Events
X-ORIGINAL-URL:https://indica.events
X-WR-CALDESC:Events for Indica Events
REFRESH-INTERVAL;VALUE=DURATION:PT1H
X-Robots-Tag:noindex
X-PUBLISHED-TTL:PT1H
BEGIN:VTIMEZONE
TZID:Asia/Kolkata
BEGIN:STANDARD
TZOFFSETFROM:+0530
TZOFFSETTO:+0530
TZNAME:IST
DTSTART:20230101T000000
END:STANDARD
END:VTIMEZONE
BEGIN:VEVENT
DTSTART;TZID=Asia/Kolkata:20240823T150000
DTEND;TZID=Asia/Kolkata:20240825T170000
DTSTAMP:20260421T161950
CREATED:20240805T031257Z
LAST-MODIFIED:20240805T031355Z
UID:5625-1724425200-1724605200@indica.events
SUMMARY:The Transformative Power Of Sounds And Mantras
DESCRIPTION:A Two-Day Residential Workshop \nOn\nThe Transformative Power of Sounds and Mantras\n  \nDates: August 23 – 25\, 2024 \nAbout the Workshop: \nThe world of vibrations and sounds is a fascinating topic that is very intimately connected with our lives. Unfortunately\, we are seldom aware of the tremendous potential that is locked inside the various kinds of simple sounds we utter\, to unravel deep truths about ourselves. When the Vedic Rishis turned their gaze inwards to understand the relationship between the gross and subtle realms of their inner and outer worlds\, they received answers in the form of mantras. These mantras are conscious sounds that have the power to change our fundamental vibratory structures and create specific experiences at various levels of our being. The talk will seek to combine theory and practice\, to give the participants a first-hand experience of the transformative power of Vedic sounds and to show how they can act as a valuable aid for a more peaceful and healthier individual and collective living. \nRetreat Contribution: Rs.7\,000/- INR*(Limited seats only) \nOpen to all from the age group of 18 years and above \nAccommodation: Only shared accommodation will be provided \nFood: Simple sattvik food with fresh grown vegetables from the farm \nVenue: Indica Gurukulam @ Ritambhara\, No. 69\, BMTC Layout\, Adjacent to Kammasandra Village\, Lakshmipura Hobli. \nThe Retreat\, located just on the outskirts of Bangalore city\, is a small beautiful space dedicated to Yoga & spiritual studies and practices in a simple and clean environment adjacent to a farm of its own. \nReaching the Retreat Venue: The venue is about 22 kms from Majestic Bus Stand and is accessible through Magadi Road and Tumkur Road preferably through own vehicles. The retreat center is very close to ‘Kamadhenu Kshetra’ – a highly popular Raghavendra Swamy temple in the last few years. It would take about an hour to reach the retreat venue from the heart of the city. Participants have to make their own arrangements. If any assistance is required Indica Yoga Team will help. \nFor more details contact us at +91 6363663313 or email: namaste@indicayoga.com
URL:https://indica.events/event/the-transformative-power-of-sounds-and-mantras/
LOCATION:Indica Gurukulam @Ritambhara Retreat\, Indica Gurukulam @Ritambhara Retreat\, No. 69\, BMTC Layout\, Adjacent to Kammasandra Village\, Lakshmipura\, https://www.ritambhararetreat.com\, Hobli\, Karnataka\, India
CATEGORIES:Residential Workshop,Workshop
ATTACH;FMTTYPE=image/jpeg:https://indica.events/wp-content/uploads/2024/08/Anuradha.jpeg
GEO:13.026430240759;77.437006824467
X-APPLE-STRUCTURED-LOCATION;VALUE=URI;X-ADDRESS=Indica Gurukulam @Ritambhara Retreat Indica Gurukulam @Ritambhara Retreat No. 69 BMTC Layout Adjacent to Kammasandra Village Lakshmipura https://www.ritambhararetreat.com Hobli Karnataka India;X-APPLE-RADIUS=500;X-TITLE=Indica Gurukulam @Ritambhara Retreat\, No. 69\, BMTC Layout\, Adjacent to Kammasandra Village\, Lakshmipura\, https://www.ritambhararetreat.com:geo:77.437006824467,13.026430240759
END:VEVENT
END:VCALENDAR